Workbook

Sheet cards-dc.json
A1: Name to Type | C1: Cardnum Name | D1: Set | E1: Rarity | F1: TYPE | G1: ALIGNMENT | H1: TEXT | N1: RARITY: | U1: Rarity | V1: Total
A2: "Tom" - Tûma | B2: =COUNTIF(progressive!C$13:BW$227,'cards-dc.json'!I177) -> 0 | C2: "Tom" - Tûma (TW) | D2: (TW) | E2: U | F2: Hazard Creature | G2: Neutral | H2: Unique. Troll. One strike. If played after \"Bert\" or \"William\" and if keyed to the same site path against the same company, each character wounded by \"Tom\" must discard all non-special items he bears. Two Wildernesses [w] in the site path are required.", | I2: ="*"&C2 -> *"Tom" - Tûma (TW) | M2: COUNT | N2: METW | U2: R3 | V2: 69
A3: "Two-headed" Troll | B3: =COUNTIF(progressive!C$13:BW$227,'cards-dc.json'!I1546) -> 0 | C3: "Two-headed" Troll (LE) | D3: (LE) | E3: R | F3: Resource Ally | G3: Minion | H3: Playable at any tapped or untapped Ruins & Lairs [R] with a Troll automatic-attack. Tap to cancel an Orc or Troll attack. Cannot be duplicated in a given company. \"I'm afraid trolls do behave like that, even those with only one head each.\" -Hob", | I3: ="*"&C3 -> *"Two-headed" Troll (LE) | N3: F# =appears in # different fixed sets | U3: R2 | V3: 134
A4: "William" - Wûluag | B4: =COUNTIF(progressive!C$13:BW$227,'cards-dc.json'!I186) -> 0 | C4: "William" - Wûluag (TW) | D4: (TW) | E4: U | F4: Hazard Creature | G4: Neutral | H4: Unique. Troll. One strike. If played after \"Bert\" or \"Tom\" and if keyed to the same site path against the same company, each character wounded by \"William\" must discard all non-special items he bears. \"William choked. 'Shut yer mouth!' he said as soon as he could. 'Yer can't expect folks to stop here for ever just to be et by you and Bert...'\"-Hob", | I4: ="*"&C4 -> *"William" - Wûluag (TW) | N4: CA1=appears once on the general common sheet | U4: R1 | V4: 10
A5: A Blazing Fire & a Mug of Ale | B5: =COUNTIF(progressive!C$13:BW$227,'cards-dc.json'!I3040) -> 0 | C5: A Blazing Fire & a Mug of Ale (RS) | D5: (RS) | H5: [MP: 1; CP: +1; Body: +1] Unique. Playable on Barliman Butterbur or Nob at Bree. +1 to target's corruption checks and +1 body. He may tap to bring Marvels Told, Beer from the East-farthing, or Glamour of Surpassing Excellence from your sideboard or discard pile to your play deck. Discard if he is at a Haven [H] or a site not in Arthedain or The Shire.", | I5: ="*"&C5 -> *A Blazing Fire & a Mug of Ale (RS) | N5: CA2=appears twice on the general common sheet | U5: R | V5: 323
A6: A Chance Meeting | B6: =COUNTIF(progressive!C$13:BW$227,'cards-dc.json'!I242) -> 0 | C6: A Chance Meeting (TW) | D6: (TW) | E6: CB1 | F6: Resource Event | G6: Hero | H6: A character (even a Hobbit) may be brought into play with direct influence at any Free-hold [F], Border-hold [B], or Ruins & Lairs [R]. \"But at last there came about by chance a meeting between Gandalf and Thorin that changed all the fortunes of the House of Durin, and led to other and greater ends beside.\"-LotR", | I6: ="*"&C6 -> *A Chance Meeting (TW) | N6: CB1=appears once on the booster only common sheet | U6: P | V6: 12
A7: A Few Recruits | B7: =COUNTIF(progressive!C$13:BW$227,'cards-dc.json'!I1959) -> 0 | C7: A Few Recruits (BA) | D7: (BA) | E7: R | F7: Resource Faction | G7: Minion | H7: Balrog specific. Playable at a tapped or untapped non-Dragon's lair: Dark-hold [D], Shadow-hold [S], or Ruins & Lairs [R]-the site cannot be an Under-deeps site or surface site thereof-if the influence check is greater than 8. Modifications: The Balrog (+3), leader (+2). \"'...led you here, and we shall lead you back by the was we choose.'\"-LotRIII", | I7: ="*"&C7 -> *A Few Recruits (BA) | N7: CB2=appears twice on the booster only common sheet | U7: U4 | V7: 1
A8: A Few Trusty Lads | B8: =COUNTIF(progressive!C$13:BW$227,'cards-dc.json'!I2485) -> 0 | C8: A Few Trusty Lads (NE) | D8: (NE) | F8: 0 | G8: 0 | H8: Playable on your starting company in lieu of playing a minor item. The company may contain two Orc leaders. Unique Orc leaders in the company receive +3 DI against Orcs; you may start the game at one of their home sites. Discard if you have an avatar in play, or if the company contains more than two unique leaders, a non-Orc leader, or more than two non-Orc characters. Cannot be duplicated by a given player. TAP: bring one resource or character from your sideboard to your play deck (or three to your discard pile).", | I8: ="*"&C8 -> *A Few Trusty Lads (NE) | N8: U=appears once on the uncommon sheet | U8: U3 | V8: 54
A9: A Flush of Air | B9: =COUNTIF(progressive!C$13:BW$227,'cards-dc.json'!I2097) -> 0 | C9: A Flush of Air (FB) | D9: (FB) | F9: 0 | G9: 0 | H9: Unique. Elrond Half-elven specific. Place this card on Elrond if he is in play. TAP: during your end-of-turn phase to take Far-sight, Moon-runes, Test of Lore, or Wisdom to Wield from your discard pile to your hand.", | I9: ="*"&C9 -> *A Flush of Air (FB) | N9: R=appears on the rare sheet | U9: U2 | V9: 158
A10: A Friend of Yore | B10: =COUNTIF(progressive!C$13:BW$227,'cards-dc.json'!I2098) -> 0 | C10: A Friend of Yore (FB) | D10: (FB) | F10: 0 | G10: 0 | H10: Unique. Playable during the site phase at Barad-dûr on an Elf or Dúnadan with a mind of five or more. Tap character. The company faces attacks: Orcs — 3 strikes with 9 prowess; Trolls — 2 strikes with 10 prowess. This card comes into play inverted; it may be stored at any Elf-hold. While inverted, target character may not untap. Re-invert it if he is at an Elf-hold or uses (for no effect) a card with a healing effect. This card gives full MP to a Lord-player. Discard during the organization phase at an Elf-hold to bring Prisoner from Ost-in-Edhil into play as a hero character; he may be taken from your hand, discard pile, or sideboard.", | I10: ="*"&C10 -> *A Friend of Yore (FB) | N10: P=promotional | U10: U1 | V10: 1
A11: A Friend or Three | B11: =COUNTIF(progressive!C$13:BW$227,'cards-dc.json'!I243) -> 0 | C11: A Friend or Three (TW) | D11: (TW) | E11: CB2 | F11: Resource Event | G11: Hero | H11: For every character in the influencing character's company, A Friend or Three gives a +1 modification to an influence check or to a corruption check made by a character in the same company. \"'I was coming...with a friend or two...' said the wizard...'One or three you meant, I see!' said Beorn.\"-Hob", | I11: ="*"&C11 -> *A Friend or Three (TW) | N11: METD | P11: MEDM | U11: U | V11: 258
A12: A Gift for Lords of Men | B12: =COUNTIF(progressive!C$13:BW$227,'cards-dc.json'!I3889) -> 0 | C12: A Gift for Lords of Men (GW) | D12: (GW) | E12: 0 | F12: 0 | G12: 0 | H12: Dragon-lord specific. Offering Attempt. Playable during CvCC, before strikes are assigned. Transfer an item your Dragon-lord bears worth at least 2 mp to a non-Hobbit, non-avatar character in opponent’s company. Your Dragon-lord then makes an influence attempt against this character modified by adding the mp of the item, and by +2 if the Dragon-lord is a diplomat. If successful, target character joins the Dragon-lord’s company; discard all non-follower, non-item cards on the character. CvCC then proceeds normally.", | I12: ="*"&C12 -> *A Gift for Lords of Men (GW) | N12: C1=appears once on the common sheet | U12: F5, CB | V12: 8
A13: A Goblin's Head | B13: =COUNTIF(progressive!C$13:BW$227,'cards-dc.json'!I3187) -> 0 | C13: A Goblin's Head (TI) | D13: (TI) | H13: Unique. Quest. Can only be brought into play from your sideboard, as result of another card’s effect. All characters in Beorn’s company receive +1 prowess against Orcs and Wolves. Orc and Wolf attacks against his company cannot be cancelled. You may flip this card when you play Skin-changer: opponent may then take Minions Stir, Redoubled Force, or Wake of War from his sideboard, play deck, or discard pile to his hand", | I13: ="*"&C13 -> *A Goblin's Head (TI) | N13: C2=appears twice on the common sheet | U13: F5 | V13: 5
A14: A Good Bit Laid By | B14: =COUNTIF(progressive!C$13:BW$227,'cards-dc.json'!I2290) -> 0 | C14: A Good Bit Laid By (DF) | D14: (DF) | F14: 0 | G14: 0 | H14: Unique. Thorin specific. Playable on your Lordhaven [H] if you have stored at least two ore and/or treasure resources there. +3 to your GI. Your characters may play and make influence attempts here against any faction, as if at the site where the faction is normally playable: discard stored ore and/or treasure resources with a combined normal MP equal to the number of contiguous regions from the haven to the site where the faction is playable, minus 1 (resources worth 0 MP count as 1). After a successful influence attempt, a character in the company may tap to play a food item, which may be taken from your discard pile or sideboard.", | I14: ="*"&C14 -> *A Good Bit Laid By (DF) | N14: U2=appears twice on the uncommon sheet | U14: F4 | V14: 1
A15: A Grim Morn | B15: =COUNTIF(progressive!C$13:BW$227,'cards-dc.json'!I3188) -> 0 | C15: A Grim Morn (TI) | D15: (TI) | H15: Quest. Théoden King specific. Only be playable as a starting stage card. Cannot be duplicated by a given player. Place this card with Theoden King if he is in play. Invert this card when you play Hour of Need on a character in his company; you may take a character, ally, or faction playable at a site in Rohan from your play deck or discard pile to your hand. If inverted, flip this card when you play Drughu, Amon Anwar, or Valour in Battle on his company or an entity thereof", | I15: ="*"&C15 -> *A Grim Morn (TI) | N15: U3=appears three times on the uncommon sheet | U15: F3 | V15: 4
A16: A Hobbit's Fate | B16: =COUNTIF(progressive!C$13:BW$227,'cards-dc.json'!I3041) -> 0 | C16: A Hobbit's Fate (RS) | D16: (RS) | F16: 0 | G16: 0 | H16: If both your Ringwraith and The One Ring are in the company. you win the game. Otherwise place this card with a Hobbit prisoner in the company. Fliü if the prisoner is released or leaves play, or if you so choose. You may store any Hobbit prisoner at Barad-dûr or Shelob s Lair.If you have stored a Hobbit there, this card gives 3 marshalling points and your ring tests are modified by +1", | I16: ="*"&C16 -> *A Hobbit's Fate (RS) | N16: R2=appears twice on the rare sheet | U16: F2 | V16: 24
A17: A Hobbit's Tale | B17: =COUNTIF(progressive!C$13:BW$227,'cards-dc.json'!I3042) -> 0 | C17: A Hobbit's Tale (RS) | D17: (RS) | F17: 0 | G17: 0 | H17: Quest. Black Player Only. Playable in lieu of playing a minor item with a starting company. After taking a character or ally prisoner with oe of your companies, place this card with the company; you may immediately play a gold ring with a character in the company, OR play a version of a ring borne by the prisoner (discard his ring), OR test a gold ring in the company, modifying the roll by +2 if the prisoner controls a ring special item and +1 if he is a Hobbit. If the prisoner is a Hobbit, flip this card. Cannot be duplicated by a given player.", | I17: ="*"&C17 -> *A Hobbit's Tale (RS) | N17: R3=appears three times on the rare sheet | U17: F1 | V17: 78
A18: A Lady Rules Upon Arda | B18: =COUNTIF(progressive!C$13:BW$227,'cards-dc.json'!I2099) -> 0 | C18: A Lady Rules Upon Arda (FB) | D18: (FB) | F18: 0 | G18: 0 | H18: Lady Galadriel specific. Playable on Galadriel if she is at Lórien and bears The One Ring. Only one A Lady Rules upon Arda may be played per turn. Make a roll during each of your end-of-turn phases if Galadriel bears The One Ring and she is untapped and at Lórien. Add 1 for each A Lady Rules upon Arda you have in play. If the result is less than 6, Galadriel is eliminated. If the result is greater than 9, you win the game.", | I18: ="*"&C18 -> *A Lady Rules Upon Arda (FB) | N18: P=promotional | U18: CB2 | V18: 25
A19: A Lie in Your Eyes | B19: =COUNTIF(progressive!C$13:BW$227,'cards-dc.json'!I1643) -> 0 | C19: A Lie in Your Eyes (AS) | D19: (AS) | E19: R2 | F19: Hazard Event | G19: Neutral | H19: Playable on an untapped non-Ringwraith, non-Wizard character. Your opponent may either: tap the character, tap an ally the character controls, or choose for you to make a roll (draw a #). If the result is greater than the character's mind plus 6, the character is discarded (along with all cards he controls). \"'That won't do... What did you see, and what did you say?'\"-LotRIII", | I19: ="*"&C19 -> *A Lie in Your Eyes (AS) | N19: MELE | U19: CB1 | V19: 71
A20: A Little Gold Ring | B20: =COUNTIF(progressive!C$13:BW$227,'cards-dc.json'!I1369) -> 3 | C20: A Little Gold Ring (LE) | D20: (LE) | E20: CB, CS1 | F20: Resource Item | G20: Minion | H20: May only be played at Bag End or a Ruins & Lairs [R] where gold rings are playable. Bearer must make a corruption check at the end of each of his untap phases. Discard this ring when tested. If tested, obtain a random value to determine which ring card may be immediately played: The One Ring (11, 12+); a Dwarven Ring (9, 10, 11, 12+); a Magic Ring (1, 2, 3, 4, 5, 6); a Lesser Ring (any result).", | I20: ="*"&C20 -> *A Little Gold Ring (LE) | N20: F# =appears in # different fixed sets | U20: CB, CS2 | V20: 15
A21: A Long Good Talk | B21: =COUNTIF(progressive!C$13:BW$227,'cards-dc.json'!I2100) -> 0 | C21: A Long Good Talk (FB) | D21: (FB) | F21: 0 | G21: 0 | H21: Playable on Gandalf, Radagast, or an Elf-lord. If in his company, Treebeard and Tom Bombadil are not discarded as per their card text when moving to Tom’s House or Wellinghall. If both these allies are in his company, you may place them “off to the side”with this card. You may then tap both (at any time) to either: *Make Awakened Plant creatures playable at your avatar’s current site against minion companies this turn; * Give +2 to a ring test, or cancel Rolled Down to the Sea played earlier in the same chain of effects; * Store Into the Smoking Cone or Fate of the Ithil Stone at Mount Doom or Barad-dûr (as if at a Haven [H]); * Take Cracks of Doom or The Old Thrush from your discard pile to hand.", | I21: ="*"&C21 -> *A Long Good Talk (FB) | N21: CB=appears once on the booster only common sheet | U21: CB, CS1 | V21: 91
A22: A Long-hoarded Treasure | B22: =COUNTIF(progressive!C$13:BW$227,'cards-dc.json'!I2101) -> 0 | C22: A Long-hoarded Treasure (FB) | D22: (FB) | F22: 0 | G22: 0 | H22: Unique. Playable on Círdan if he is at Grey Havens. If Reconstructed Towers is in play, Palantír of Elostirion is not discarded as per its card text when its bearer moves from The White Towers to Grey Havens (or vice versa). Additionally, if you are Círdan you may play A New Ringlord; The White Towers must be used (regardless of its site type) to fulfill the site requirement for the roll.", | I22: ="*"&C22 -> *A Long-hoarded Treasure (FB) | N22: CS1=appears once on the starter only common sheet | U22: CB | V22: 7
A23: A Lust Not Concealed | B23: =COUNTIF(progressive!C$13:BW$227,'cards-dc.json'!I3189) -> 0 | C23: A Lust Not Concealed (TI) | D23: (TI) | F23: 0 | G23: 0 | H23: [SP: 1] Playable at any time on your avatar if you tap two characters with two different skills in his company. Your avatar receives +3 stage points and -3 direct influence this turn; untap him if tapped. Cannot be duplicated in a given turn", | I23: ="*"&C23 -> *A Lust Not Concealed (TI) | N23: CS2=appears twice on the starter only common sheet | U23: CA2 | V23: 32
A24: A Malady Without Healing | B24: =COUNTIF(progressive!C$13:BW$227,'cards-dc.json'!I1370) -> 0 | C24: A Malady Without Healing (LE) | D24: (LE) | E24: R | F24: Resource Event | G24: Minion | H24: Magic. Shadow-magic. Playable during the site phase on a non-Ringwraith, non-Wizard character at the same site as a shadow-magic using character. Target character must make a corruption check modified by -1 followed by a body check (modified by +1 if tapped). If target character is a hero and is eliminated by these checks, you receive his kill Marshaling points. Unless the shadow-magic user is a Ringwraith, he makes a corruption check modified by -5.", | I24: ="*"&C24 -> *A Malady Without Healing (LE) | N24: U=appears once on the uncommon sheet | U24: CA1 | V24: 56
A25: A Merrier World | B25: =COUNTIF(progressive!C$13:BW$227,'cards-dc.json'!I1840) -> 0 | C25: A Merrier World (WH) | D25: (WH) | E25: C3 | F25: Resource Event | G25: Stage | H25: Playable if you have more than 7 stage points. Hazards your company defeat (for which you otherwise get 1 MP) are each worth full kill Marshaling points. Cannot be duplicated by a given player. \"'...the northern world would be merrier for many a long day. The dragon was dead and the goblins overthrown...\"-Hob", | I25: ="*"&C25 -> *A Merrier World (WH) | N25: R=appears on the rare sheet | U25: C4 | V25: 16
A26: A Mind Alike | B26: =COUNTIF(progressive!C$13:BW$227,'cards-dc.json'!I3190) -> 3 | C26: A Mind Alike (TI) | D26: (TI) | F26: 0 | G26: 0 | H26: [SP: 1] Place this card on your avatar when he is in play. You may tap your avatar to look at half the number of cards in opponent’s hand (at random; round up if opponent is of the same alignment, round down otherwise). Avatar makes a CP.", | I26: ="*"&C26 -> *A Mind Alike (TI) | N26: P=promotional | U26: C3 | V26: 41
A27: A More Evil Hour | B27: =COUNTIF(progressive!C$13:BW$227,'cards-dc.json'!I1960) -> 0 | C27: A More Evil Hour (BA) | D27: (BA) | E27: R | F27: Resource Event | G27: Minion | H27: Balrog specific. Tap this card when an opponent plays a card normally giving him three or more Marshaling points. The card does not untap. If tapped, you may discard this card during your organization phase to target a company allowed to move with region movement. The company may move up to two additional regions if moving to a site where an opponent's company is present-and also, thereafter, when leaving this site.", | I27: ="*"&C27 -> *A More Evil Hour (BA) | N27: MEAS | U27: C2 | V27: 130
A28: A More or Less Decent Giant | B28: =COUNTIF(progressive!C$13:BW$227,'cards-dc.json'!I2291) -> 0 | C28: A More or Less Decent Giant (DF) | D28: (DF) | F28: 0 | G28: 0 | H28: Giant. Playable at any tapped or untapped non-Haven, non-Dark-hold site in a mountain region or in High Pass, with a company containing a diplomat. For the purpose of resolving non-combat attacks his base prowess is considered to be 10. Only one A More or Less Decent Giant may be in a given company.", | I28: ="*"&C28 -> *A More or Less Decent Giant (DF) | N28: C2=appears twice on the common sheet | U28: C1 | V28: 38
A29: A New Domain | B29: =COUNTIF(progressive!C$13:BW$227,'cards-dc.json'!I2292) -> 1 | C29: A New Domain (DF) | D29: (DF) | F29: 0 | G29: 0 | H29: Balrog specific. Playable on a site where you have played Lord and Usurper. The site becomes one of your Darkhavens [K]. Additionally, Growing Shadow may be played on the site’s region (or an adjacent region), regardless of any other requirements; if played on such a region, it is not discarded until this card is discarded. Cannot be duplicated on a site.", | I29: ="*"&C29 -> *A New Domain (DF) | N29: C3=appears three times on the common sheet | U29: C | V29: 7
A30: A New Ringlord | B30: =COUNTIF(progressive!C$13:BW$227,'cards-dc.json'!I1841) -> 0 | C30: A New Ringlord (WH) | D30: (WH) | E30: R3 | F30: Resource Event | G30: Stage | H30: Playable on your Fallen-wizard if he has The One Ring at one of your Wizardhavens [W]. Only one A New Ringlord may be played in a given turn. Make a roll during each of your end-of-turn phases if your Fallen-wizard is at a Ruins & Lairs [R] where Information is playable. Add 1 for each A New Ringlord you have in play. If the result is less than 6, your Fallen-wizard is eliminated. If the result is greater than 9, you win the game.", | I30: ="*"&C30 -> *A New Ringlord (WH) | N30: U1=appears once on the uncommon sheet
A31: A Nice Place to Hide | B31: =COUNTIF(progressive!C$13:BW$227,'cards-dc.json'!I1371) -> 0 | C31: A Nice Place to Hide (LE) | D31: (LE) | E31: CB, CS1 | F31: Resource Event | G31: Minion | H31: Scout only. Tap scout to cancel an attack against his company. \"'And a nice place to choose, too. The River seems set on taking us right into their arms!'\"-LotRII", | I31: ="*"&C31 -> *A Nice Place to Hide (LE) | N31: U2=appears twice on the uncommon sheet
A32: A Panoply of Wings | B32: =COUNTIF(progressive!C$13:BW$227,'cards-dc.json'!I1842) -> 0 | C32: A Panoply of Wings (WH) | D32: (WH) | E32: C3 | F32: Resource Faction | G32: Hero | H32: Playable at any tapped or untapped non-Haven, non-Shadow-hold, non-Dark-hold site in a Wilderness [w] if the influence check is greater than 11. Standard Modifications: if Radagast is your Wizard (+3). Discard this faction to make information playable at such a site. \"'Tell them to bring news of anything that bears on this matter...'\"-LotRII", | I32: ="*"&C32 -> *A Panoply of Wings (WH) | N32: U3=appears three times on the uncommon sheet
A33: A Power Still Greater | B33: =COUNTIF(progressive!C$13:BW$227,'cards-dc.json'!I3043) -> 0 | C33: A Power Still Greater (RS) | D33: (RS) | H33: Playable on The One Ring. Your hand size is increased by one. You draw one more card than normal for the bearer’s company when moving to a new site. Discard during opponent’s turn to prevent him from calling the Free Council, Audience with Sauron, or Day of Reckoning. Cannot be duplicated", | I33: ="*"&C33 -> *A Power Still Greater (RS) | N33: R1=appears once on the rare sheet
A34: A Prince to Bring Down the North | B34: =COUNTIF(progressive!C$13:BW$227,'cards-dc.json'!I4052) -> 0 | C34: A Prince to Bring Down the North (KN) | D34: (KN) | F34: 0 | G34: 0 | H34: Quest. Playable in lieu of playing a minor item with a starting company; bring Fornost into play from your sideboard; cannot be duplicated on a given player. tap if you play a unique faction in Angmar or its adjacent regions; this card does not untap normally. If you control either two non-unique or one man faction (playable in Wilderland or its adjacent regions) under Profitable Trade; either untap an opponent’s Hope of the Sister Realm or flip this card", | I34: ="*"&C34 -> *A Prince to Bring Down the North (KN) | N34: R2=appears twice on the rare sheet
A35: A Short Rest | B35: =COUNTIF(progressive!C$13:BW$227,'cards-dc.json'!I950) -> 2 | C35: A Short Rest (TD) | D35: (TD) | E35: C2 | F35: Resource Event | G35: Hero | H35: Each moving company may draw an extra card for each region less than four in its site path. \"That day he looked at the swords they had brought from the trolls' lair, and he said: 'These are not troll-make.'\"-Hob", | I35: ="*"&C35 -> *A Short Rest (TD) | N35: MEWH
A36: A Strident Spawn | B36: =COUNTIF(progressive!C$13:BW$227,'cards-dc.json'!I1843) -> 0 | C36: A Strident Spawn (WH) | D36: (WH) | E36: U3 | F36: Resource Event | G36: Stage | H36: Playable if you are Pallando or Saruman and have 6 or more stage points and a protected Wizardhaven [W]. Each of your Half-orcs requires one less point of influence to control. During your organization phase, you may take one Half-orc character from your discard pile to your hand. You may play Half-orc characters at your Wizardhavens [W], and even if your Fallen-wizard is not there. Cannot be duplicated by a given player.", | I36: ="*"&C36 -> *A Strident Spawn (WH) | N36: C3=appears three times on the common sheet
A37: A Thing of Surpassing Potency | B37: =COUNTIF(progressive!C$13:BW$227,'cards-dc.json'!#REF!) -> 0 | C37: A Thing of Surpassing Potency (MM) | D37: (MM) | F37: 0 | G37: 0 | H37: Playable if The One Ring is in play and borne by a non- Hobbit character with a mind greater than 4. Discard if these conditions are not met. The mp and all bonusses from other special items in play are modified by -1 (to a minimum of 1). Additionally, all CP by other ringbearers are modified by -1, and any Narya, Nenya or Vilya cannot be used.", | I37: ="*"&C37 -> *A Thing of Surpassing Potency (MM) | N37: C4=appears four times on the common sheet
A38: A Trail Fresh and Swift | B38: =COUNTIF(progressive!C$13:BW$227,'cards-dc.json'!I3044) -> 0 | C38: A Trail Fresh and Swift (RS) | D38: (RS) | H38: Unless in play or eliminated, take Gollum from your sideboard and place him with a Shadow-hold [S] or Dark-hold [D] (turn My Precious face-down); this site must be located a number of regions removed from the company’s region, equal to or lower than the modified roll’s result minus 9 (opponent’s choice; site from either location deck). Gollum is considered a Prisoner at this site. He is released automatically by the character tapping for Rescue Prisoners there. You may store Gollum and this card together with Recue Prisoners, if stored it gives 4 marshalling points", | I38: ="*"&C38 -> *A Trail Fresh and Swift (RS) | N38: U3=appears three times on the uncommon sheet
A39: A Weapon in the Right Hands | B39: =COUNTIF(progressive!C$13:BW$227,'cards-dc.json'!#REF!) -> 0 | C39: A Weapon in the Right Hands (MM) | D39: (MM) | F39: 0 | G39: 0 | H39: [Prowess: +1; CP: +1] Unique. Playable on the One Ring. The item cannot concealed or transferred (unless bearer is eliminated by a body check). If bearer is in Barad-dur ( or Dol Guldur if opponent is the Necromancer) he faces an attack during the site phase (alone): Maia - 1 strike with 24 prowess adn 12 body; the strike cannot be canceled, reduced, redirected, or made ineffectual. If the strike is defeated, and bearer of the One Ring is still in play after a corruption check during the end of turn phase, you win the game, otherwise you lose.", | I39: ="*"&C39 -> *A Weapon in the Right Hands (MM) | N39: U4=appears four times on the uncommon sheet
A40: A Will of Its Own | B40: =COUNTIF(progressive!C$13:BW$227,'cards-dc.json'!I3045) -> 5 | C40: A Will of Its Own (RS) | D40: (RS) | H40: Quest. Only playable in lieu of playing a minor item with a starting company; opponent may bring A Will of Its Own into play from his sideboard. When testing a gold ring, you may play The One Ring instead of a Dwarven Ring as result of the test. Flip this card when you have The One Ring in play; you may take a resource only playable on The One Ring or its bearer from your sideboard or discard pile to your hand.", | I40: ="*"&C40 -> *A Will of Its Own (RS) | N40: R2=appears twice on the rare sheet
...

Sheet council
C1: ="game start deck count: "&SUM(B41:B80)+SUM(B84:B123)+SUM(B23:B37) -> game start deck count: 12 | E1: ="CHARACTERS: "&SUM(B23:B37) -> CHARACTERS: 5 | F1: ="RESOURCES: "&SUM(B41:B80) -> RESOURCES: 2 | G1: ="SIDEBOARD: "&SUM(B127:B166) -> SIDEBOARD: 2
B2: POOL | C2: POOL | F2: ="HAZARDS: "&SUM(B84:B123) -> HAZARDS: 5 | G2: ="FW-DC-SB: "&SUM(B170:B189) -> FW-DC-SB: 1
B3: Quantity | C3: =IFERROR(B3&" "&VLOOKUP(E3,'cards-dc.json'!A:C,3,FALSE),"") | E3: TYPE HERE
B4: 2 | C4: =IFERROR(B4&" "&VLOOKUP(E4,'cards-dc.json'!A:C,3,FALSE),"") -> 2 Elf-stone (TW) | D4: =IFERROR(VLOOKUP(RIGHT(C4,LEN(C4)-2),'cards-dc.json'!$C:$E,3,FALSE),"") -> CB2 | E4: Elf-stone | F4: =IF(E4="","",IFERROR(INDEX('cards-dc.json'!C:C,(MATCH(E4&"*",'cards-dc.json'!A:A,1)),1),".")) -> Elf-stone (TW) | G4: =IFERROR(LEFT(F4,LEN(F4)-5),".") -> Elf-stone
C5: =IFERROR(B5&" "&VLOOKUP(E5,'cards-dc.json'!A:C,3,FALSE),"") | D5: =IFERROR(VLOOKUP(RIGHT(C5,LEN(C5)-2),'cards-dc.json'!$C:$E,3,FALSE),"") | F5: =IF(E5="","",IFERROR(INDEX('cards-dc.json'!C:C,(MATCH(E5&"*",'cards-dc.json'!A:A,1)),1),".")) | G5: =IFERROR(LEFT(F5,LEN(F5)-5),".") -> .
C6: =IFERROR(B6&" "&VLOOKUP(E6,'cards-dc.json'!A:C,3,FALSE),"") | D6: =IFERROR(VLOOKUP(RIGHT(C6,LEN(C6)-2),'cards-dc.json'!$C:$E,3,FALSE),"") | F6: =IF(E6="","",IFERROR(INDEX('cards-dc.json'!C:C,(MATCH(E6&"*",'cards-dc.json'!A:A,1)),1),".")) | G6: =IFERROR(LEFT(F6,LEN(F6)-5),".") -> .
C7: =IFERROR(B7&" "&VLOOKUP(E7,'cards-dc.json'!A:C,3,FALSE),"") | D7: =IFERROR(VLOOKUP(RIGHT(C7,LEN(C7)-2),'cards-dc.json'!$C:$E,3,FALSE),"") | F7: =IF(E7="","",IFERROR(INDEX('cards-dc.json'!C:C,(MATCH(E7&"*",'cards-dc.json'!A:A,1)),1),".")) | G7: =IFERROR(LEFT(F7,LEN(F7)-5),".") -> .
C8: =IFERROR(B8&" "&VLOOKUP(E8,'cards-dc.json'!A:C,3,FALSE),"") | D8: =IFERROR(VLOOKUP(RIGHT(C8,LEN(C8)-2),'cards-dc.json'!$C:$E,3,FALSE),"") | F8: =IF(E8="","",IFERROR(INDEX('cards-dc.json'!C:C,(MATCH(E8&"*",'cards-dc.json'!A:A,1)),1),".")) | G8: =IFERROR(LEFT(F8,LEN(F8)-5),".") -> .
C9: =IFERROR(B9&" "&VLOOKUP(E9,'cards-dc.json'!A:C,3,FALSE),"") | D9: =IFERROR(VLOOKUP(RIGHT(C9,LEN(C9)-2),'cards-dc.json'!$C:$E,3,FALSE),"") | F9: =IF(E9="","",IFERROR(INDEX('cards-dc.json'!C:C,(MATCH(E9&"*",'cards-dc.json'!A:A,1)),1),".")) | G9: =IFERROR(LEFT(F9,LEN(F9)-5),".") -> .
C10: =IFERROR(B10&" "&VLOOKUP(E10,'cards-dc.json'!A:C,3,FALSE),"") | D10: =IFERROR(VLOOKUP(RIGHT(C10,LEN(C10)-2),'cards-dc.json'!$C:$E,3,FALSE),"") | F10: =IF(E10="","",IFERROR(INDEX('cards-dc.json'!C:C,(MATCH(E10&"*",'cards-dc.json'!A:A,1)),1),".")) | G10: =IFERROR(LEFT(F10,LEN(F10)-5),".") -> .
C11: =IFERROR(B11&" "&VLOOKUP(E11,'cards-dc.json'!A:C,3,FALSE),"") | D11: =IFERROR(VLOOKUP(RIGHT(C11,LEN(C11)-2),'cards-dc.json'!$C:$E,3,FALSE),"") | F11: =IF(E11="","",IFERROR(INDEX('cards-dc.json'!C:C,(MATCH(E11&"*",'cards-dc.json'!A:A,1)),1),".")) | G11: =IFERROR(LEFT(F11,LEN(F11)-5),".") -> .
C12: =IFERROR(B12&" "&VLOOKUP(E12,'cards-dc.json'!A:C,3,FALSE),"") | D12: =IFERROR(VLOOKUP(RIGHT(C12,LEN(C12)-2),'cards-dc.json'!$C:$E,3,FALSE),"") | F12: =IF(E12="","",IFERROR(INDEX('cards-dc.json'!C:C,(MATCH(E12&"*",'cards-dc.json'!A:A,1)),1),".")) | G12: =IFERROR(LEFT(F12,LEN(F12)-5),".") -> .
C13: =IFERROR(B13&" "&VLOOKUP(E13,'cards-dc.json'!A:C,3,FALSE),"") | D13: =IFERROR(VLOOKUP(RIGHT(C13,LEN(C13)-2),'cards-dc.json'!$C:$E,3,FALSE),"") | F13: =IF(E13="","",IFERROR(INDEX('cards-dc.json'!C:C,(MATCH(E13&"*",'cards-dc.json'!A:A,1)),1),".")) | G13: =IFERROR(LEFT(F13,LEN(F13)-5),".") -> .
C14: =IFERROR(B14&" "&VLOOKUP(E14,'cards-dc.json'!A:C,3,FALSE),"") | D14: =IFERROR(VLOOKUP(RIGHT(C14,LEN(C14)-2),'cards-dc.json'!$C:$E,3,FALSE),"") | F14: =IF(E14="","",IFERROR(INDEX('cards-dc.json'!C:C,(MATCH(E14&"*",'cards-dc.json'!A:A,1)),1),".")) | G14: =IFERROR(LEFT(F14,LEN(F14)-5),".") -> .
C15: =IFERROR(B15&" "&VLOOKUP(E15,'cards-dc.json'!A:C,3,FALSE),"") | D15: =IFERROR(VLOOKUP(RIGHT(C15,LEN(C15)-2),'cards-dc.json'!$C:$E,3,FALSE),"") | F15: =IF(E15="","",IFERROR(INDEX('cards-dc.json'!C:C,(MATCH(E15&"*",'cards-dc.json'!A:A,1)),1),".")) | G15: =IFERROR(LEFT(F15,LEN(F15)-5),".") -> .
C16: =IFERROR(B16&" "&VLOOKUP(E16,'cards-dc.json'!A:C,3,FALSE),"") | D16: =IFERROR(VLOOKUP(RIGHT(C16,LEN(C16)-2),'cards-dc.json'!$C:$E,3,FALSE),"") | F16: =IF(E16="","",IFERROR(INDEX('cards-dc.json'!C:C,(MATCH(E16&"*",'cards-dc.json'!A:A,1)),1),".")) | G16: =IFERROR(LEFT(F16,LEN(F16)-5),".") -> .
... C19: =IFERROR(B19&" "&VLOOKUP(E19,'cards-dc.json'!A:C,3,FALSE),"") | D19: =IFERROR(VLOOKUP(RIGHT(C19,LEN(C19)-2),'cards-dc.json'!$C:$E,3,FALSE),"") | F19: =IF(E19="","",IFERROR(INDEX('cards-dc.json'!C:C,(MATCH(E19&"*",'cards-dc.json'!A:A,1)),1),".")) | G19: =IFERROR(LEFT(F19,LEN(F19)-5),".") -> .
B21: CHARACTER | C21: CHARACTERS
B22: ="Qty: "&SUM(B23:B37) -> Qty: 5 | C22: =IFERROR(B22&" "&VLOOKUP(E22,'cards-dc.json'!A:C,3,FALSE),"") | E22: TYPE HERE
B23: 1 | C23: =IFERROR(B23&" "&VLOOKUP(E23,'cards-dc.json'!A:C,3,FALSE),"") -> 1 Arwen (TW) | D23: =IFERROR(VLOOKUP(RIGHT(C23,LEN(C23)-2),'cards-dc.json'!$C:$E,3,FALSE),"") -> R | E23: Arwen | F23: =IF(E23="","",IFERROR(INDEX('cards-dc.json'!C:C,(MATCH(E23&"*",'cards-dc.json'!A:A,1)),1),".")) -> Arwen (TW) | G23: =IFERROR(LEFT(F23,LEN(F23)-5),".") -> Arwen
C24: =IFERROR(B24&" "&VLOOKUP(E24,'cards-dc.json'!A:C,3,FALSE),"") | D24: =IFERROR(VLOOKUP(RIGHT(C24,LEN(C24)-2),'cards-dc.json'!$C:$E,3,FALSE),"") | E24: Eowyn | F24: =IF(E24="","",IFERROR(INDEX('cards-dc.json'!C:C,(MATCH(E24&"*",'cards-dc.json'!A:A,1)),1),".")) -> Éowyn (TW) | G24: =IFERROR(LEFT(F24,LEN(F24)-5),".") -> Éowyn
B25: 1 | C25: =IFERROR(B25&" "&VLOOKUP(E25,'cards-dc.json'!A:C,3,FALSE),"") -> 1 Éowyn (TW) | D25: =IFERROR(VLOOKUP(RIGHT(C25,LEN(C25)-2),'cards-dc.json'!$C:$E,3,FALSE),"") -> U | E25: Éowyn | F25: =IF(E25="","",IFERROR(INDEX('cards-dc.json'!C:C,(MATCH(E25&"*",'cards-dc.json'!A:A,1)),1),".")) -> Éowyn (TW) | G25: =IFERROR(LEFT(F25,LEN(F25)-5),".") -> Éowyn
B26: 1 | C26: =IFERROR(B26&" "&VLOOKUP(E26,'cards-dc.json'!A:C,3,FALSE),"") -> 1 Pallando [H] (TW) | D26: =IFERROR(VLOOKUP(RIGHT(C26,LEN(C26)-2),'cards-dc.json'!$C:$E,3,FALSE),"") -> F2 | E26: Pallando | F26: =IF(E26="","",IFERROR(INDEX('cards-dc.json'!C:C,(MATCH(E26&"*",'cards-dc.json'!A:A,1)),1),".")) -> Pallando the Soul-keeper (AS) | G26: =IFERROR(LEFT(F26,LEN(F26)-5),".") -> Pallando the Soul-keeper
C27: =IFERROR(B27&" "&VLOOKUP(E27,'cards-dc.json'!A:C,3,FALSE),"") | D27: =IFERROR(VLOOKUP(RIGHT(C27,LEN(C27)-2),'cards-dc.json'!$C:$E,3,FALSE),"") | E27: Akhorahil the Ringwraith | F27: =IF(E27="","",IFERROR(INDEX('cards-dc.json'!C:C,(MATCH(E27&"*",'cards-dc.json'!A:A,1)),1),".")) -> Akhôrahil the Ringwraith (LE) | G27: =IFERROR(LEFT(F27,LEN(F27)-5),".") -> Akhôrahil the Ringwraith
B28: 1 | C28: =IFERROR(B28&" "&VLOOKUP(E28,'cards-dc.json'!A:C,3,FALSE),"") -> 1 Akhôrahil the Ringwraith (LE) | D28: =IFERROR(VLOOKUP(RIGHT(C28,LEN(C28)-2),'cards-dc.json'!$C:$E,3,FALSE),"") -> F1 | E28: Akhôrahil the Ringwraith | F28: =IF(E28="","",IFERROR(INDEX('cards-dc.json'!C:C,(MATCH(E28&"*",'cards-dc.json'!A:A,1)),1),".")) -> Akhôrahil the Ringwraith (LE) | G28: =IFERROR(LEFT(F28,LEN(F28)-5),".") -> Akhôrahil the Ringwraith
B29: 1 | C29: =IFERROR(B29&" "&VLOOKUP(E29,'cards-dc.json'!A:C,3,FALSE),"") -> 1 Saruman [H] (TW) | D29: =IFERROR(VLOOKUP(RIGHT(C29,LEN(C29)-2),'cards-dc.json'!$C:$E,3,FALSE),"") -> F2 | E29: Saruman | F29: =IF(E29="","",IFERROR(INDEX('cards-dc.json'!C:C,(MATCH(E29&"*",'cards-dc.json'!A:A,1)),1),".")) -> Saruman the Wise (AS) | G29: =IFERROR(LEFT(F29,LEN(F29)-5),".") -> Saruman the Wise
C30: =IFERROR(B30&" "&VLOOKUP(E30,'cards-dc.json'!A:C,3,FALSE),"") | D30: =IFERROR(VLOOKUP(RIGHT(C30,LEN(C30)-2),'cards-dc.json'!$C:$E,3,FALSE),"") | F30: =IF(E30="","",IFERROR(INDEX('cards-dc.json'!C:C,(MATCH(E30&"*",'cards-dc.json'!A:A,1)),1),".")) | G30: =IFERROR(LEFT(F30,LEN(F30)-5),".") -> .
C31: =IFERROR(B31&" "&VLOOKUP(E31,'cards-dc.json'!A:C,3,FALSE),"") | D31: =IFERROR(VLOOKUP(RIGHT(C31,LEN(C31)-2),'cards-dc.json'!$C:$E,3,FALSE),"") | F31: =IF(E31="","",IFERROR(INDEX('cards-dc.json'!C:C,(MATCH(E31&"*",'cards-dc.json'!A:A,1)),1),".")) | G31: =IFERROR(LEFT(F31,LEN(F31)-5),".") -> .
C32: =IFERROR(B32&" "&VLOOKUP(E32,'cards-dc.json'!A:C,3,FALSE),"") | D32: =IFERROR(VLOOKUP(RIGHT(C32,LEN(C32)-2),'cards-dc.json'!$C:$E,3,FALSE),"") | F32: =IF(E32="","",IFERROR(INDEX('cards-dc.json'!C:C,(MATCH(E32&"*",'cards-dc.json'!A:A,1)),1),".")) | G32: =IFERROR(LEFT(F32,LEN(F32)-5),".") -> .
C33: =IFERROR(B33&" "&VLOOKUP(E33,'cards-dc.json'!A:C,3,FALSE),"") | D33: =IFERROR(VLOOKUP(RIGHT(C33,LEN(C33)-2),'cards-dc.json'!$C:$E,3,FALSE),"") | F33: =IF(E33="","",IFERROR(INDEX('cards-dc.json'!C:C,(MATCH(E33&"*",'cards-dc.json'!A:A,1)),1),".")) | G33: =IFERROR(LEFT(F33,LEN(F33)-5),".") -> .
C34: =IFERROR(B34&" "&VLOOKUP(E34,'cards-dc.json'!A:C,3,FALSE),"") | D34: =IFERROR(VLOOKUP(RIGHT(C34,LEN(C34)-2),'cards-dc.json'!$C:$E,3,FALSE),"") | F34: =IF(E34="","",IFERROR(INDEX('cards-dc.json'!C:C,(MATCH(E34&"*",'cards-dc.json'!A:A,1)),1),".")) | G34: =IFERROR(LEFT(F34,LEN(F34)-5),".") -> .
C35: =IFERROR(B35&" "&VLOOKUP(E35,'cards-dc.json'!A:C,3,FALSE),"") | D35: =IFERROR(VLOOKUP(RIGHT(C35,LEN(C35)-2),'cards-dc.json'!$C:$E,3,FALSE),"") | F35: =IF(E35="","",IFERROR(INDEX('cards-dc.json'!C:C,(MATCH(E35&"*",'cards-dc.json'!A:A,1)),1),".")) | G35: =IFERROR(LEFT(F35,LEN(F35)-5),".") -> .
C36: =IFERROR(B36&" "&VLOOKUP(E36,'cards-dc.json'!A:C,3,FALSE),"") | D36: =IFERROR(VLOOKUP(RIGHT(C36,LEN(C36)-2),'cards-dc.json'!$C:$E,3,FALSE),"") | F36: =IF(E36="","",IFERROR(INDEX('cards-dc.json'!C:C,(MATCH(E36&"*",'cards-dc.json'!A:A,1)),1),".")) | G36: =IFERROR(LEFT(F36,LEN(F36)-5),".") -> .
C37: =IFERROR(B37&" "&VLOOKUP(E37,'cards-dc.json'!A:C,3,FALSE),"") | D37: =IFERROR(VLOOKUP(RIGHT(C37,LEN(C37)-2),'cards-dc.json'!$C:$E,3,FALSE),"") | F37: =IF(E37="","",IFERROR(INDEX('cards-dc.json'!C:C,(MATCH(E37&"*",'cards-dc.json'!A:A,1)),1),".")) | G37: =IFERROR(LEFT(F37,LEN(F37)-5),".") -> .
B39: RESOURCES | C39: RESOURCES
B40: ="Qty: "&SUM(B41:B80) -> Qty: 2 | C40: =IFERROR(B40&" "&VLOOKUP(E40,'cards-dc.json'!A:C,3,FALSE),"") | E40: TYPE HERE
B41: 1 | C41: =IFERROR(B41&" "&VLOOKUP(E41,'cards-dc.json'!A:C,3,FALSE),"") -> 1 Mallorn (DM) | D41: =IFERROR(VLOOKUP(RIGHT(C41,LEN(C41)-2),'cards-dc.json'!$C:$E,3,FALSE),"") -> R2 | E41: Mallorn | F41: =IF(E41="","",IFERROR(INDEX('cards-dc.json'!C:C,(MATCH(E41&"*",'cards-dc.json'!A:A,1)),1),".")) -> Mallorn (DM) | G41: =IFERROR(LEFT(F41,LEN(F41)-5),".") -> Mallorn
C42: =IFERROR(B42&" "&VLOOKUP(E42,'cards-dc.json'!A:C,3,FALSE),"") | D42: =IFERROR(VLOOKUP(RIGHT(C42,LEN(C42)-2),'cards-dc.json'!$C:$E,3,FALSE),"") | E42: Black Numenoreans | F42: =IF(E42="","",IFERROR(INDEX('cards-dc.json'!C:C,(MATCH(E42&"*",'cards-dc.json'!A:A,1)),1),".")) -> Black Númenóreans (AS) | G42: =IFERROR(LEFT(F42,LEN(F42)-5),".") -> Black Númenóreans
B43: 1 | C43: =IFERROR(B43&" "&VLOOKUP(E43,'cards-dc.json'!A:C,3,FALSE),"") -> 1 Black Númenóreans (AS) | D43: =IFERROR(VLOOKUP(RIGHT(C43,LEN(C43)-2),'cards-dc.json'!$C:$E,3,FALSE),"") -> U2 | E43: Black Númenóreans | F43: =IF(E43="","",IFERROR(INDEX('cards-dc.json'!C:C,(MATCH(E43&"*",'cards-dc.json'!A:A,1)),1),".")) -> Black Númenóreans (AS) | G43: =IFERROR(LEFT(F43,LEN(F43)-5),".") -> Black Númenóreans
C44: =IFERROR(B44&" "&VLOOKUP(E44,'cards-dc.json'!A:C,3,FALSE),"") | D44: =IFERROR(VLOOKUP(RIGHT(C44,LEN(C44)-2),'cards-dc.json'!$C:$E,3,FALSE),"") | F44: =IF(E44="","",IFERROR(INDEX('cards-dc.json'!C:C,(MATCH(E44&"*",'cards-dc.json'!A:A,1)),1),".")) | G44: =IFERROR(LEFT(F44,LEN(F44)-5),".") -> .
...

Sheet bree
C1: ="game start deck count: "&SUM(B41:B80)+SUM(B84:B123)+SUM(B23:B37) -> game start deck count: 0 | E1: ="CHARACTERS: "&SUM(B23:B37) -> CHARACTERS: 0 | F1: ="RESOURCES: "&SUM(B41:B80) -> RESOURCES: 0 | G1: ="SIDEBOARD: "&SUM(B127:B166) -> SIDEBOARD: 0
B2: POOL | C2: POOL | F2: ="HAZARDS: "&SUM(B84:B123) -> HAZARDS: 0 | G2: ="FW-DC-SB: "&SUM(B170:B188) -> FW-DC-SB: 0 | I2: card names for easy copy in this column; customize to your wishes
B3: Quantity | C3: =IFERROR(B3&" "&VLOOKUP(E3,'cards-dc.json'!A:C,3,FALSE),"") | E3: TYPE HERE
C4: =IFERROR(B4&" "&VLOOKUP(E4,'cards-dc.json'!A:C,3,FALSE),"") | D4: =IFERROR(VLOOKUP(RIGHT(C4,LEN(C4)-2),'cards-dc.json'!$C:$E,3,FALSE),"") | F4: =IF(E4="","",IFERROR(INDEX('cards-dc.json'!C:C,(MATCH(E4&"*",'cards-dc.json'!A:A,1)),1),".")) | G4: =IFERROR(LEFT(F4,LEN(F4)-5),".") -> . | I4: Umagaur
C5: =IFERROR(B5&" "&VLOOKUP(E5,'cards-dc.json'!A:C,3,FALSE),"") | D5: =IFERROR(VLOOKUP(RIGHT(C5,LEN(C5)-2),'cards-dc.json'!$C:$E,3,FALSE),"") | F5: =IF(E5="","",IFERROR(INDEX('cards-dc.json'!C:C,(MATCH(E5&"*",'cards-dc.json'!A:A,1)),1),".")) | G5: =IFERROR(LEFT(F5,LEN(F5)-5),".") -> . | I5: Bûthrakaur
C6: =IFERROR(B6&" "&VLOOKUP(E6,'cards-dc.json'!A:C,3,FALSE),"") | D6: =IFERROR(VLOOKUP(RIGHT(C6,LEN(C6)-2),'cards-dc.json'!$C:$E,3,FALSE),"") | F6: =IF(E6="","",IFERROR(INDEX('cards-dc.json'!C:C,(MATCH(E6&"*",'cards-dc.json'!A:A,1)),1),".")) | G6: =IFERROR(LEFT(F6,LEN(F6)-5),".") -> . | I6: Mountain-Maggot
C7: =IFERROR(B7&" "&VLOOKUP(E7,'cards-dc.json'!A:C,3,FALSE),"") | D7: =IFERROR(VLOOKUP(RIGHT(C7,LEN(C7)-2),'cards-dc.json'!$C:$E,3,FALSE),"") | F7: =IF(E7="","",IFERROR(INDEX('cards-dc.json'!C:C,(MATCH(E7&"*",'cards-dc.json'!A:A,1)),1),".")) | G7: =IFERROR(LEFT(F7,LEN(F7)-5),".") -> .
C8: =IFERROR(B8&" "&VLOOKUP(E8,'cards-dc.json'!A:C,3,FALSE),"") | D8: =IFERROR(VLOOKUP(RIGHT(C8,LEN(C8)-2),'cards-dc.json'!$C:$E,3,FALSE),"") | F8: =IF(E8="","",IFERROR(INDEX('cards-dc.json'!C:C,(MATCH(E8&"*",'cards-dc.json'!A:A,1)),1),".")) | G8: =IFERROR(LEFT(F8,LEN(F8)-5),".") -> .
C9: =IFERROR(B9&" "&VLOOKUP(E9,'cards-dc.json'!A:C,3,FALSE),"") | D9: =IFERROR(VLOOKUP(RIGHT(C9,LEN(C9)-2),'cards-dc.json'!$C:$E,3,FALSE),"") | F9: =IF(E9="","",IFERROR(INDEX('cards-dc.json'!C:C,(MATCH(E9&"*",'cards-dc.json'!A:A,1)),1),".")) | G9: =IFERROR(LEFT(F9,LEN(F9)-5),".") -> .
C10: =IFERROR(B10&" "&VLOOKUP(E10,'cards-dc.json'!A:C,3,FALSE),"") | D10: =IFERROR(VLOOKUP(RIGHT(C10,LEN(C10)-2),'cards-dc.json'!$C:$E,3,FALSE),"") | F10: =IF(E10="","",IFERROR(INDEX('cards-dc.json'!C:C,(MATCH(E10&"*",'cards-dc.json'!A:A,1)),1),".")) | G10: =IFERROR(LEFT(F10,LEN(F10)-5),".") -> .
C11: =IFERROR(B11&" "&VLOOKUP(E11,'cards-dc.json'!A:C,3,FALSE),"") | D11: =IFERROR(VLOOKUP(RIGHT(C11,LEN(C11)-2),'cards-dc.json'!$C:$E,3,FALSE),"") | F11: =IF(E11="","",IFERROR(INDEX('cards-dc.json'!C:C,(MATCH(E11&"*",'cards-dc.json'!A:A,1)),1),".")) | G11: =IFERROR(LEFT(F11,LEN(F11)-5),".") -> .
C12: =IFERROR(B12&" "&VLOOKUP(E12,'cards-dc.json'!A:C,3,FALSE),"") | D12: =IFERROR(VLOOKUP(RIGHT(C12,LEN(C12)-2),'cards-dc.json'!$C:$E,3,FALSE),"") | F12: =IF(E12="","",IFERROR(INDEX('cards-dc.json'!C:C,(MATCH(E12&"*",'cards-dc.json'!A:A,1)),1),".")) | G12: =IFERROR(LEFT(F12,LEN(F12)-5),".") -> .
C13: =IFERROR(B13&" "&VLOOKUP(E13,'cards-dc.json'!A:C,3,FALSE),"") | D13: =IFERROR(VLOOKUP(RIGHT(C13,LEN(C13)-2),'cards-dc.json'!$C:$E,3,FALSE),"") | F13: =IF(E13="","",IFERROR(INDEX('cards-dc.json'!C:C,(MATCH(E13&"*",'cards-dc.json'!A:A,1)),1),".")) | G13: =IFERROR(LEFT(F13,LEN(F13)-5),".") -> .
C14: =IFERROR(B14&" "&VLOOKUP(E14,'cards-dc.json'!A:C,3,FALSE),"") | D14: =IFERROR(VLOOKUP(RIGHT(C14,LEN(C14)-2),'cards-dc.json'!$C:$E,3,FALSE),"") | F14: =IF(E14="","",IFERROR(INDEX('cards-dc.json'!C:C,(MATCH(E14&"*",'cards-dc.json'!A:A,1)),1),".")) | G14: =IFERROR(LEFT(F14,LEN(F14)-5),".") -> .
C15: =IFERROR(B15&" "&VLOOKUP(E15,'cards-dc.json'!A:C,3,FALSE),"") | D15: =IFERROR(VLOOKUP(RIGHT(C15,LEN(C15)-2),'cards-dc.json'!$C:$E,3,FALSE),"") | F15: =IF(E15="","",IFERROR(INDEX('cards-dc.json'!C:C,(MATCH(E15&"*",'cards-dc.json'!A:A,1)),1),".")) | G15: =IFERROR(LEFT(F15,LEN(F15)-5),".") -> .
C16: =IFERROR(B16&" "&VLOOKUP(E16,'cards-dc.json'!A:C,3,FALSE),"") | D16: =IFERROR(VLOOKUP(RIGHT(C16,LEN(C16)-2),'cards-dc.json'!$C:$E,3,FALSE),"") | F16: =IF(E16="","",IFERROR(INDEX('cards-dc.json'!C:C,(MATCH(E16&"*",'cards-dc.json'!A:A,1)),1),".")) | G16: =IFERROR(LEFT(F16,LEN(F16)-5),".") -> . | I16: Orders From the Great Demon
C17: =IFERROR(B17&" "&VLOOKUP(E17,'cards-dc.json'!A:C,3,FALSE),"") | D17: =IFERROR(VLOOKUP(RIGHT(C17,LEN(C17)-2),'cards-dc.json'!$C:$E,3,FALSE),"") | F17: =IF(E17="","",IFERROR(INDEX('cards-dc.json'!C:C,(MATCH(E17&"*",'cards-dc.json'!A:A,1)),1),".")) | G17: =IFERROR(LEFT(F17,LEN(F17)-5),".") -> .
C18: =IFERROR(B18&" "&VLOOKUP(E18,'cards-dc.json'!A:C,3,FALSE),"") | D18: =IFERROR(VLOOKUP(RIGHT(C18,LEN(C18)-2),'cards-dc.json'!$C:$E,3,FALSE),"") | F18: =IF(E18="","",IFERROR(INDEX('cards-dc.json'!C:C,(MATCH(E18&"*",'cards-dc.json'!A:A,1)),1),".")) | G18: =IFERROR(LEFT(F18,LEN(F18)-5),".") -> .
C19: =IFERROR(B19&" "&VLOOKUP(E19,'cards-dc.json'!A:C,3,FALSE),"") | D19: =IFERROR(VLOOKUP(RIGHT(C19,LEN(C19)-2),'cards-dc.json'!$C:$E,3,FALSE),"") | F19: =IF(E19="","",IFERROR(INDEX('cards-dc.json'!C:C,(MATCH(E19&"*",'cards-dc.json'!A:A,1)),1),".")) | G19: =IFERROR(LEFT(F19,LEN(F19)-5),".") -> .
B21: CHARACTER | C21: CHARACTERS
B22: ="Qty: "&SUM(B23:B37) -> Qty: 0 | C22: =IFERROR(B22&" "&VLOOKUP(E22,'cards-dc.json'!A:C,3,FALSE),"") | E22: TYPE HERE | I22: TYPE HERE
C23: =IFERROR(B23&" "&VLOOKUP(E23,'cards-dc.json'!A:C,3,FALSE),"") | D23: =IFERROR(VLOOKUP(RIGHT(C23,LEN(C23)-2),'cards-dc.json'!$C:$E,3,FALSE),"") | F23: =IF(E23="","",IFERROR(INDEX('cards-dc.json'!C:C,(MATCH(E23&"*",'cards-dc.json'!A:A,1)),1),".")) | G23: =IFERROR(LEFT(F23,LEN(F23)-5),".") -> . | I23: The Balrog [B]
C24: =IFERROR(B24&" "&VLOOKUP(E24,'cards-dc.json'!A:C,3,FALSE),"") | D24: =IFERROR(VLOOKUP(RIGHT(C24,LEN(C24)-2),'cards-dc.json'!$C:$E,3,FALSE),"") | F24: =IF(E24="","",IFERROR(INDEX('cards-dc.json'!C:C,(MATCH(E24&"*",'cards-dc.json'!A:A,1)),1),".")) | G24: =IFERROR(LEFT(F24,LEN(F24)-5),".") -> .
C25: =IFERROR(B25&" "&VLOOKUP(E25,'cards-dc.json'!A:C,3,FALSE),"") | D25: =IFERROR(VLOOKUP(RIGHT(C25,LEN(C25)-2),'cards-dc.json'!$C:$E,3,FALSE),"") | F25: =IF(E25="","",IFERROR(INDEX('cards-dc.json'!C:C,(MATCH(E25&"*",'cards-dc.json'!A:A,1)),1),".")) | G25: =IFERROR(LEFT(F25,LEN(F25)-5),".") -> . | I25: Bolg
C26: =IFERROR(B26&" "&VLOOKUP(E26,'cards-dc.json'!A:C,3,FALSE),"") | D26: =IFERROR(VLOOKUP(RIGHT(C26,LEN(C26)-2),'cards-dc.json'!$C:$E,3,FALSE),"") | F26: =IF(E26="","",IFERROR(INDEX('cards-dc.json'!C:C,(MATCH(E26&"*",'cards-dc.json'!A:A,1)),1),".")) | G26: =IFERROR(LEFT(F26,LEN(F26)-5),".") -> . | I26: Azog
C27: =IFERROR(B27&" "&VLOOKUP(E27,'cards-dc.json'!A:C,3,FALSE),"") | D27: =IFERROR(VLOOKUP(RIGHT(C27,LEN(C27)-2),'cards-dc.json'!$C:$E,3,FALSE),"") | F27: =IF(E27="","",IFERROR(INDEX('cards-dc.json'!C:C,(MATCH(E27&"*",'cards-dc.json'!A:A,1)),1),".")) | G27: =IFERROR(LEFT(F27,LEN(F27)-5),".") -> .
C28: =IFERROR(B28&" "&VLOOKUP(E28,'cards-dc.json'!A:C,3,FALSE),"") | D28: =IFERROR(VLOOKUP(RIGHT(C28,LEN(C28)-2),'cards-dc.json'!$C:$E,3,FALSE),"") | F28: =IF(E28="","",IFERROR(INDEX('cards-dc.json'!C:C,(MATCH(E28&"*",'cards-dc.json'!A:A,1)),1),".")) | G28: =IFERROR(LEFT(F28,LEN(F28)-5),".") -> .
C29: =IFERROR(B29&" "&VLOOKUP(E29,'cards-dc.json'!A:C,3,FALSE),"") | D29: =IFERROR(VLOOKUP(RIGHT(C29,LEN(C29)-2),'cards-dc.json'!$C:$E,3,FALSE),"") | F29: =IF(E29="","",IFERROR(INDEX('cards-dc.json'!C:C,(MATCH(E29&"*",'cards-dc.json'!A:A,1)),1),".")) | G29: =IFERROR(LEFT(F29,LEN(F29)-5),".") -> .
C30: =IFERROR(B30&" "&VLOOKUP(E30,'cards-dc.json'!A:C,3,FALSE),"") | D30: =IFERROR(VLOOKUP(RIGHT(C30,LEN(C30)-2),'cards-dc.json'!$C:$E,3,FALSE),"") | F30: =IF(E30="","",IFERROR(INDEX('cards-dc.json'!C:C,(MATCH(E30&"*",'cards-dc.json'!A:A,1)),1),".")) | G30: =IFERROR(LEFT(F30,LEN(F30)-5),".") -> .
C31: =IFERROR(B31&" "&VLOOKUP(E31,'cards-dc.json'!A:C,3,FALSE),"") | D31: =IFERROR(VLOOKUP(RIGHT(C31,LEN(C31)-2),'cards-dc.json'!$C:$E,3,FALSE),"") | F31: =IF(E31="","",IFERROR(INDEX('cards-dc.json'!C:C,(MATCH(E31&"*",'cards-dc.json'!A:A,1)),1),".")) | G31: =IFERROR(LEFT(F31,LEN(F31)-5),".") -> .
C32: =IFERROR(B32&" "&VLOOKUP(E32,'cards-dc.json'!A:C,3,FALSE),"") | D32: =IFERROR(VLOOKUP(RIGHT(C32,LEN(C32)-2),'cards-dc.json'!$C:$E,3,FALSE),"") | F32: =IF(E32="","",IFERROR(INDEX('cards-dc.json'!C:C,(MATCH(E32&"*",'cards-dc.json'!A:A,1)),1),".")) | G32: =IFERROR(LEFT(F32,LEN(F32)-5),".") -> .
C33: =IFERROR(B33&" "&VLOOKUP(E33,'cards-dc.json'!A:C,3,FALSE),"") | D33: =IFERROR(VLOOKUP(RIGHT(C33,LEN(C33)-2),'cards-dc.json'!$C:$E,3,FALSE),"") | F33: =IF(E33="","",IFERROR(INDEX('cards-dc.json'!C:C,(MATCH(E33&"*",'cards-dc.json'!A:A,1)),1),".")) | G33: =IFERROR(LEFT(F33,LEN(F33)-5),".") -> .
C34: =IFERROR(B34&" "&VLOOKUP(E34,'cards-dc.json'!A:C,3,FALSE),"") | D34: =IFERROR(VLOOKUP(RIGHT(C34,LEN(C34)-2),'cards-dc.json'!$C:$E,3,FALSE),"") | F34: =IF(E34="","",IFERROR(INDEX('cards-dc.json'!C:C,(MATCH(E34&"*",'cards-dc.json'!A:A,1)),1),".")) | G34: =IFERROR(LEFT(F34,LEN(F34)-5),".") -> . | I34: Palantír of Minas Ithil
C35: =IFERROR(B35&" "&VLOOKUP(E35,'cards-dc.json'!A:C,3,FALSE),"") | D35: =IFERROR(VLOOKUP(RIGHT(C35,LEN(C35)-2),'cards-dc.json'!$C:$E,3,FALSE),"") | F35: =IF(E35="","",IFERROR(INDEX('cards-dc.json'!C:C,(MATCH(E35&"*",'cards-dc.json'!A:A,1)),1),".")) | G35: =IFERROR(LEFT(F35,LEN(F35)-5),".") -> .
C36: =IFERROR(B36&" "&VLOOKUP(E36,'cards-dc.json'!A:C,3,FALSE),"") | D36: =IFERROR(VLOOKUP(RIGHT(C36,LEN(C36)-2),'cards-dc.json'!$C:$E,3,FALSE),"") | F36: =IF(E36="","",IFERROR(INDEX('cards-dc.json'!C:C,(MATCH(E36&"*",'cards-dc.json'!A:A,1)),1),".")) | G36: =IFERROR(LEFT(F36,LEN(F36)-5),".") -> .
C37: =IFERROR(B37&" "&VLOOKUP(E37,'cards-dc.json'!A:C,3,FALSE),"") | D37: =IFERROR(VLOOKUP(RIGHT(C37,LEN(C37)-2),'cards-dc.json'!$C:$E,3,FALSE),"") | F37: =IF(E37="","",IFERROR(INDEX('cards-dc.json'!C:C,(MATCH(E37&"*",'cards-dc.json'!A:A,1)),1),".")) | G37: =IFERROR(LEFT(F37,LEN(F37)-5),".") -> .
B39: RESOURCES | C39: RESOURCES
B40: ="Qty: "&SUM(B41:B80) -> Qty: 0 | C40: =IFERROR(B40&" "&VLOOKUP(E40,'cards-dc.json'!A:C,3,FALSE),"") | E40: TYPE HERE | I40: TYPE HERE
C41: =IFERROR(B41&" "&VLOOKUP(E41,'cards-dc.json'!A:C,3,FALSE),"") | D41: =IFERROR(VLOOKUP(RIGHT(C41,LEN(C41)-2),'cards-dc.json'!$C:$E,3,FALSE),"") | F41: =IF(E41="","",IFERROR(INDEX('cards-dc.json'!C:C,(MATCH(E41&"*",'cards-dc.json'!A:A,1)),1),".")) | G41: =IFERROR(LEFT(F41,LEN(F41)-5),".") -> . | I41: Stinker
C42: =IFERROR(B42&" "&VLOOKUP(E42,'cards-dc.json'!A:C,3,FALSE),"") | D42: =IFERROR(VLOOKUP(RIGHT(C42,LEN(C42)-2),'cards-dc.json'!$C:$E,3,FALSE),"") | F42: =IF(E42="","",IFERROR(INDEX('cards-dc.json'!C:C,(MATCH(E42&"*",'cards-dc.json'!A:A,1)),1),".")) | G42: =IFERROR(LEFT(F42,LEN(F42)-5),".") -> . | I42: Sable Shield
...

Sheet album
B1: deck name | F1: deck name | J1: deck name | N1: deck name | R1: deck name | V1: deck name | Z1: deck name
B4: POOL | C4: =SUM(B13:B27) -> 0 | F4: POOL | G4: =SUM(F13:F27) -> 0 | J4: POOL | K4: =SUM(J13:J27) -> 0 | N4: POOL | O4: =SUM(N13:N27) -> 0 | R4: POOL | S4: =SUM(R13:R27) -> 0 | V4: POOL | W4: =SUM(V13:V27) -> 0 | Z4: POOL | AA4: =SUM(Z13:Z27) -> 0
B5: CHAR | C5: =SUM(B32:B46) -> 0 | F5: CHAR | G5: =SUM(F32:F46) -> 0 | J5: CHAR | K5: =SUM(J32:J46) -> 0 | N5: CHAR | O5: =SUM(N32:N46) -> 0 | R5: CHAR | S5: =SUM(R32:R46) -> 0 | V5: CHAR | W5: =SUM(V32:V46) -> 0 | Z5: CHAR | AA5: =SUM(Z32:Z46) -> 0
B6: RES | C6: =SUM(B50:B89) -> 0 | F6: RES | G6: =SUM(F50:F89) -> 0 | J6: RES | K6: =SUM(J50:J89) -> 0 | N6: RES | O6: =SUM(N50:N89) -> 0 | R6: RES | S6: =SUM(R50:R89) -> 0 | V6: RES | W6: =SUM(V50:V89) -> 0 | Z6: RES | AA6: =SUM(Z50:Z89) -> 0
B7: HAZ | C7: =SUM(B93:B132) -> 0 | F7: HAZ | G7: =SUM(F93:F132) -> 0 | J7: HAZ | K7: =SUM(J93:J132) -> 0 | N7: HAZ | O7: =SUM(N93:N132) -> 0 | R7: HAZ | S7: =SUM(R93:R132) -> 0 | V7: HAZ | W7: =SUM(V93:V132) -> 0 | Z7: HAZ | AA7: =SUM(Z93:Z132) -> 0
B8: Sideboard | C8: =SUM(B136:B175) -> 0 | F8: Sideboard | G8: =SUM(F136:F175) -> 0 | J8: Sideboard | K8: =SUM(J136:J175) -> 0 | N8: Sideboard | O8: =SUM(N136:N175) -> 0 | R8: Sideboard | S8: =SUM(R136:R175) -> 0 | V8: Sideboard | W8: =SUM(V136:V175) -> 0 | Z8: Sideboard | AA8: =SUM(Z136:Z175) -> 0
B9: FW-DC-SB | C9: =SUM(B179:B198) -> 0 | F9: FW-DC-SB | G9: =SUM(F179:F198) -> 0 | J9: FW-DC-SB | K9: =SUM(J179:J198) -> 0 | N9: FW-DC-SB | O9: =SUM(N179:N198) -> 0 | R9: FW-DC-SB | S9: =SUM(R179:R198) -> 0 | V9: FW-DC-SB | W9: =SUM(V179:V198) -> 0 | Z9: FW-DC-SB | AA9: =SUM(Z179:Z198) -> 0
C10: ="deck count: "&SUM(B50:B89)+SUM(B93:B132)+SUM(B32:B46) -> deck count: 0 | G10: ="deck count: "&SUM(F50:F89)+SUM(F93:F132)+SUM(F32:F46) -> deck count: 0 | K10: ="deck count: "&SUM(J50:J89)+SUM(J93:J132)+SUM(J32:J46) -> deck count: 0 | O10: ="deck count: "&SUM(N50:N89)+SUM(N93:N132)+SUM(N32:N46) -> deck count: 0 | S10: ="deck count: "&SUM(R50:R89)+SUM(R93:R132)+SUM(R32:R46) -> deck count: 0 | W10: ="deck count: "&SUM(V50:V89)+SUM(V93:V132)+SUM(V32:V46) -> deck count: 0 | AA10: ="deck count: "&SUM(Z50:Z89)+SUM(Z93:Z132)+SUM(Z32:Z46) -> deck count: 0
B11: POOL | C11: POOL | F11: POOL | G11: POOL | J11: POOL | K11: POOL | N11: POOL | O11: POOL | R11: POOL | S11: POOL | V11: POOL | W11: POOL | Z11: POOL | AA11: POOL
B12: ="Qty: "&SUM(B13:B27) -> Qty: 0 | F12: ="Qty: "&SUM(F13:F27) -> Qty: 0 | J12: ="Qty: "&SUM(J13:J27) -> Qty: 0 | N12: ="Qty: "&SUM(N13:N27) -> Qty: 0 | R12: ="Qty: "&SUM(R13:R27) -> Qty: 0 | V12: ="Qty: "&SUM(V13:V27) -> Qty: 0 | Z12: ="Qty: "&SUM(Z13:Z27) -> Qty: 0
B13: =IF(LEN(C13) < 3,0,VALUE(LEFT(C13,1))) -> 0 | D13: =IFERROR(VLOOKUP(RIGHT(C13,LEN(C13)-2),'cards-dc.json'!$C:$E,3,FALSE),"") | F13: =IF(LEN(G13) < 3,0,VALUE(LEFT(G13,1))) -> 0 | H13: =IFERROR(VLOOKUP(RIGHT(G13,LEN(G13)-2),'cards-dc.json'!$C:$E,3,FALSE),"") | J13: =IF(LEN(K13) < 3,0,VALUE(LEFT(K13,1))) -> 0 | L13: =IFERROR(VLOOKUP(RIGHT(K13,LEN(K13)-2),'cards-dc.json'!$C:$E,3,FALSE),"") | N13: =IF(LEN(O13) < 3,0,VALUE(LEFT(O13,1))) -> 0 | P13: =IFERROR(VLOOKUP(RIGHT(O13,LEN(O13)-2),'cards-dc.json'!$C:$E,3,FALSE),"") | R13: =IF(LEN(S13) < 3,0,VALUE(LEFT(S13,1))) -> 0 | T13: =IFERROR(VLOOKUP(RIGHT(S13,LEN(S13)-2),'cards-dc.json'!$C:$E,3,FALSE),"") | V13: =IF(LEN(W13) < 3,0,VALUE(LEFT(W13,1))) -> 0 | X13: =IFERROR(VLOOKUP(RIGHT(W13,LEN(W13)-2),'cards-dc.json'!$C:$E,3,FALSE),"") | Z13: =IF(LEN(AA13) < 3,0,VALUE(LEFT(AA13,1))) -> 0 | AB13: =IFERROR(VLOOKUP(RIGHT(AA13,LEN(AA13)-2),'cards-dc.json'!$C:$E,3,FALSE),"")
B14: =IF(LEN(C14) < 3,0,VALUE(LEFT(C14,1))) -> 0 | D14: =IFERROR(VLOOKUP(RIGHT(C14,LEN(C14)-2),'cards-dc.json'!$C:$E,3,FALSE),"") | F14: =IF(LEN(G14) < 3,0,VALUE(LEFT(G14,1))) -> 0 | H14: =IFERROR(VLOOKUP(RIGHT(G14,LEN(G14)-2),'cards-dc.json'!$C:$E,3,FALSE),"") | J14: =IF(LEN(K14) < 3,0,VALUE(LEFT(K14,1))) -> 0 | L14: =IFERROR(VLOOKUP(RIGHT(K14,LEN(K14)-2),'cards-dc.json'!$C:$E,3,FALSE),"") | N14: =IF(LEN(O14) < 3,0,VALUE(LEFT(O14,1))) -> 0 | P14: =IFERROR(VLOOKUP(RIGHT(O14,LEN(O14)-2),'cards-dc.json'!$C:$E,3,FALSE),"") | R14: =IF(LEN(S14) < 3,0,VALUE(LEFT(S14,1))) -> 0 | T14: =IFERROR(VLOOKUP(RIGHT(S14,LEN(S14)-2),'cards-dc.json'!$C:$E,3,FALSE),"") | V14: =IF(LEN(W14) < 3,0,VALUE(LEFT(W14,1))) -> 0 | X14: =IFERROR(VLOOKUP(RIGHT(W14,LEN(W14)-2),'cards-dc.json'!$C:$E,3,FALSE),"") | Z14: =IF(LEN(AA14) < 3,0,VALUE(LEFT(AA14,1))) -> 0 | AB14: =IFERROR(VLOOKUP(RIGHT(AA14,LEN(AA14)-2),'cards-dc.json'!$C:$E,3,FALSE),"")
B15: =IF(LEN(C15) < 3,0,VALUE(LEFT(C15,1))) -> 0 | D15: =IFERROR(VLOOKUP(RIGHT(C15,LEN(C15)-2),'cards-dc.json'!$C:$E,3,FALSE),"") | F15: =IF(LEN(G15) < 3,0,VALUE(LEFT(G15,1))) -> 0 | H15: =IFERROR(VLOOKUP(RIGHT(G15,LEN(G15)-2),'cards-dc.json'!$C:$E,3,FALSE),"") | J15: =IF(LEN(K15) < 3,0,VALUE(LEFT(K15,1))) -> 0 | L15: =IFERROR(VLOOKUP(RIGHT(K15,LEN(K15)-2),'cards-dc.json'!$C:$E,3,FALSE),"") | N15: =IF(LEN(O15) < 3,0,VALUE(LEFT(O15,1))) -> 0 | P15: =IFERROR(VLOOKUP(RIGHT(O15,LEN(O15)-2),'cards-dc.json'!$C:$E,3,FALSE),"") | R15: =IF(LEN(S15) < 3,0,VALUE(LEFT(S15,1))) -> 0 | T15: =IFERROR(VLOOKUP(RIGHT(S15,LEN(S15)-2),'cards-dc.json'!$C:$E,3,FALSE),"") | V15: =IF(LEN(W15) < 3,0,VALUE(LEFT(W15,1))) -> 0 | X15: =IFERROR(VLOOKUP(RIGHT(W15,LEN(W15)-2),'cards-dc.json'!$C:$E,3,FALSE),"") | Z15: =IF(LEN(AA15) < 3,0,VALUE(LEFT(AA15,1))) -> 0 | AB15: =IFERROR(VLOOKUP(RIGHT(AA15,LEN(AA15)-2),'cards-dc.json'!$C:$E,3,FALSE),"")
B16: =IF(LEN(C16) < 3,0,VALUE(LEFT(C16,1))) -> 0 | D16: =IFERROR(VLOOKUP(RIGHT(C16,LEN(C16)-2),'cards-dc.json'!$C:$E,3,FALSE),"") | F16: =IF(LEN(G16) < 3,0,VALUE(LEFT(G16,1))) -> 0 | H16: =IFERROR(VLOOKUP(RIGHT(G16,LEN(G16)-2),'cards-dc.json'!$C:$E,3,FALSE),"") | J16: =IF(LEN(K16) < 3,0,VALUE(LEFT(K16,1))) -> 0 | L16: =IFERROR(VLOOKUP(RIGHT(K16,LEN(K16)-2),'cards-dc.json'!$C:$E,3,FALSE),"") | N16: =IF(LEN(O16) < 3,0,VALUE(LEFT(O16,1))) -> 0 | P16: =IFERROR(VLOOKUP(RIGHT(O16,LEN(O16)-2),'cards-dc.json'!$C:$E,3,FALSE),"") | R16: =IF(LEN(S16) < 3,0,VALUE(LEFT(S16,1))) -> 0 | T16: =IFERROR(VLOOKUP(RIGHT(S16,LEN(S16)-2),'cards-dc.json'!$C:$E,3,FALSE),"") | V16: =IF(LEN(W16) < 3,0,VALUE(LEFT(W16,1))) -> 0 | X16: =IFERROR(VLOOKUP(RIGHT(W16,LEN(W16)-2),'cards-dc.json'!$C:$E,3,FALSE),"") | Z16: =IF(LEN(AA16) < 3,0,VALUE(LEFT(AA16,1))) -> 0 | AB16: =IFERROR(VLOOKUP(RIGHT(AA16,LEN(AA16)-2),'cards-dc.json'!$C:$E,3,FALSE),"")
B17: =IF(LEN(C17) < 3,0,VALUE(LEFT(C17,1))) -> 0 | D17: =IFERROR(VLOOKUP(RIGHT(C17,LEN(C17)-2),'cards-dc.json'!$C:$E,3,FALSE),"") | F17: =IF(LEN(G17) < 3,0,VALUE(LEFT(G17,1))) -> 0 | H17: =IFERROR(VLOOKUP(RIGHT(G17,LEN(G17)-2),'cards-dc.json'!$C:$E,3,FALSE),"") | J17: =IF(LEN(K17) < 3,0,VALUE(LEFT(K17,1))) -> 0 | L17: =IFERROR(VLOOKUP(RIGHT(K17,LEN(K17)-2),'cards-dc.json'!$C:$E,3,FALSE),"") | N17: =IF(LEN(O17) < 3,0,VALUE(LEFT(O17,1))) -> 0 | P17: =IFERROR(VLOOKUP(RIGHT(O17,LEN(O17)-2),'cards-dc.json'!$C:$E,3,FALSE),"") | R17: =IF(LEN(S17) < 3,0,VALUE(LEFT(S17,1))) -> 0 | T17: =IFERROR(VLOOKUP(RIGHT(S17,LEN(S17)-2),'cards-dc.json'!$C:$E,3,FALSE),"") | V17: =IF(LEN(W17) < 3,0,VALUE(LEFT(W17,1))) -> 0 | X17: =IFERROR(VLOOKUP(RIGHT(W17,LEN(W17)-2),'cards-dc.json'!$C:$E,3,FALSE),"") | Z17: =IF(LEN(AA17) < 3,0,VALUE(LEFT(AA17,1))) -> 0 | AB17: =IFERROR(VLOOKUP(RIGHT(AA17,LEN(AA17)-2),'cards-dc.json'!$C:$E,3,FALSE),"")
B18: =IF(LEN(C18) < 3,0,VALUE(LEFT(C18,1))) -> 0 | D18: =IFERROR(VLOOKUP(RIGHT(C18,LEN(C18)-2),'cards-dc.json'!$C:$E,3,FALSE),"") | F18: =IF(LEN(G18) < 3,0,VALUE(LEFT(G18,1))) -> 0 | H18: =IFERROR(VLOOKUP(RIGHT(G18,LEN(G18)-2),'cards-dc.json'!$C:$E,3,FALSE),"") | J18: =IF(LEN(K18) < 3,0,VALUE(LEFT(K18,1))) -> 0 | L18: =IFERROR(VLOOKUP(RIGHT(K18,LEN(K18)-2),'cards-dc.json'!$C:$E,3,FALSE),"") | N18: =IF(LEN(O18) < 3,0,VALUE(LEFT(O18,1))) -> 0 | P18: =IFERROR(VLOOKUP(RIGHT(O18,LEN(O18)-2),'cards-dc.json'!$C:$E,3,FALSE),"") | R18: =IF(LEN(S18) < 3,0,VALUE(LEFT(S18,1))) -> 0 | T18: =IFERROR(VLOOKUP(RIGHT(S18,LEN(S18)-2),'cards-dc.json'!$C:$E,3,FALSE),"") | V18: =IF(LEN(W18) < 3,0,VALUE(LEFT(W18,1))) -> 0 | X18: =IFERROR(VLOOKUP(RIGHT(W18,LEN(W18)-2),'cards-dc.json'!$C:$E,3,FALSE),"") | Z18: =IF(LEN(AA18) < 3,0,VALUE(LEFT(AA18,1))) -> 0 | AB18: =IFERROR(VLOOKUP(RIGHT(AA18,LEN(AA18)-2),'cards-dc.json'!$C:$E,3,FALSE),"")
B19: =IF(LEN(C19) < 3,0,VALUE(LEFT(C19,1))) -> 0 | D19: =IFERROR(VLOOKUP(RIGHT(C19,LEN(C19)-2),'cards-dc.json'!$C:$E,3,FALSE),"") | F19: =IF(LEN(G19) < 3,0,VALUE(LEFT(G19,1))) -> 0 | H19: =IFERROR(VLOOKUP(RIGHT(G19,LEN(G19)-2),'cards-dc.json'!$C:$E,3,FALSE),"") | J19: =IF(LEN(K19) < 3,0,VALUE(LEFT(K19,1))) -> 0 | L19: =IFERROR(VLOOKUP(RIGHT(K19,LEN(K19)-2),'cards-dc.json'!$C:$E,3,FALSE),"") | N19: =IF(LEN(O19) < 3,0,VALUE(LEFT(O19,1))) -> 0 | P19: =IFERROR(VLOOKUP(RIGHT(O19,LEN(O19)-2),'cards-dc.json'!$C:$E,3,FALSE),"") | R19: =IF(LEN(S19) < 3,0,VALUE(LEFT(S19,1))) -> 0 | T19: =IFERROR(VLOOKUP(RIGHT(S19,LEN(S19)-2),'cards-dc.json'!$C:$E,3,FALSE),"") | V19: =IF(LEN(W19) < 3,0,VALUE(LEFT(W19,1))) -> 0 | X19: =IFERROR(VLOOKUP(RIGHT(W19,LEN(W19)-2),'cards-dc.json'!$C:$E,3,FALSE),"") | Z19: =IF(LEN(AA19) < 3,0,VALUE(LEFT(AA19,1))) -> 0 | AB19: =IFERROR(VLOOKUP(RIGHT(AA19,LEN(AA19)-2),'cards-dc.json'!$C:$E,3,FALSE),"")
B20: =IF(LEN(C20) < 3,0,VALUE(LEFT(C20,1))) -> 0 | D20: =IFERROR(VLOOKUP(RIGHT(C20,LEN(C20)-2),'cards-dc.json'!$C:$E,3,FALSE),"") | F20: =IF(LEN(G20) < 3,0,VALUE(LEFT(G20,1))) -> 0 | H20: =IFERROR(VLOOKUP(RIGHT(G20,LEN(G20)-2),'cards-dc.json'!$C:$E,3,FALSE),"") | J20: =IF(LEN(K20) < 3,0,VALUE(LEFT(K20,1))) -> 0 | L20: =IFERROR(VLOOKUP(RIGHT(K20,LEN(K20)-2),'cards-dc.json'!$C:$E,3,FALSE),"") | N20: =IF(LEN(O20) < 3,0,VALUE(LEFT(O20,1))) -> 0 | P20: =IFERROR(VLOOKUP(RIGHT(O20,LEN(O20)-2),'cards-dc.json'!$C:$E,3,FALSE),"") | R20: =IF(LEN(S20) < 3,0,VALUE(LEFT(S20,1))) -> 0 | T20: =IFERROR(VLOOKUP(RIGHT(S20,LEN(S20)-2),'cards-dc.json'!$C:$E,3,FALSE),"") | V20: =IF(LEN(W20) < 3,0,VALUE(LEFT(W20,1))) -> 0 | X20: =IFERROR(VLOOKUP(RIGHT(W20,LEN(W20)-2),'cards-dc.json'!$C:$E,3,FALSE),"") | Z20: =IF(LEN(AA20) < 3,0,VALUE(LEFT(AA20,1))) -> 0 | AB20: =IFERROR(VLOOKUP(RIGHT(AA20,LEN(AA20)-2),'cards-dc.json'!$C:$E,3,FALSE),"")
B21: =IF(LEN(C21) < 3,0,VALUE(LEFT(C21,1))) -> 0 | D21: =IFERROR(VLOOKUP(RIGHT(C21,LEN(C21)-2),'cards-dc.json'!$C:$E,3,FALSE),"") | F21: =IF(LEN(G21) < 3,0,VALUE(LEFT(G21,1))) -> 0 | H21: =IFERROR(VLOOKUP(RIGHT(G21,LEN(G21)-2),'cards-dc.json'!$C:$E,3,FALSE),"") | J21: =IF(LEN(K21) < 3,0,VALUE(LEFT(K21,1))) -> 0 | L21: =IFERROR(VLOOKUP(RIGHT(K21,LEN(K21)-2),'cards-dc.json'!$C:$E,3,FALSE),"") | N21: =IF(LEN(O21) < 3,0,VALUE(LEFT(O21,1))) -> 0 | P21: =IFERROR(VLOOKUP(RIGHT(O21,LEN(O21)-2),'cards-dc.json'!$C:$E,3,FALSE),"") | R21: =IF(LEN(S21) < 3,0,VALUE(LEFT(S21,1))) -> 0 | T21: =IFERROR(VLOOKUP(RIGHT(S21,LEN(S21)-2),'cards-dc.json'!$C:$E,3,FALSE),"") | V21: =IF(LEN(W21) < 3,0,VALUE(LEFT(W21,1))) -> 0 | X21: =IFERROR(VLOOKUP(RIGHT(W21,LEN(W21)-2),'cards-dc.json'!$C:$E,3,FALSE),"") | Z21: =IF(LEN(AA21) < 3,0,VALUE(LEFT(AA21,1))) -> 0 | AB21: =IFERROR(VLOOKUP(RIGHT(AA21,LEN(AA21)-2),'cards-dc.json'!$C:$E,3,FALSE),"")
